BEGIN:VCALENDAR
VERSION:2.0
PRODID:-//Volodia - ECPv6.2.9//NONSGML v1.0//EN
CALSCALE:GREGORIAN
METHOD:PUBLISH
X-ORIGINAL-URL:https://volodia.es
X-WR-CALDESC:Eventos para Volodia
REFRESH-INTERVAL;VALUE=DURATION:PT1H
X-Robots-Tag:noindex
X-PUBLISHED-TTL:PT1H
BEGIN:VTIMEZONE
TZID:Europe/Helsinki
BEGIN:DAYLIGHT
TZOFFSETFROM:+0200
TZOFFSETTO:+0300
TZNAME:EEST
DTSTART:20180325T010000
END:DAYLIGHT
BEGIN:STANDARD
TZOFFSETFROM:+0300
TZOFFSETTO:+0200
TZNAME:EET
DTSTART:20181028T010000
END:STANDARD
END:VTIMEZONE
BEGIN:VEVENT
DTSTART;VALUE=DATE:20181204
DTEND;VALUE=DATE:20181205
DTSTAMP:20260419T182722
CREATED:20180805T122623Z
LAST-MODIFIED:20180805T122623Z
UID:3610-1543881600-1543967999@volodia.es
SUMMARY:Zèbre
DESCRIPTION:Coreografía y dirección: Manuela Barrero. \nIntérpretes: Davicarome y Manuela Barrero. \nProducción: dlCaos. \nFechas: del 4 al 15 de diciembre 2018. \n \n“‘Zèbre’ es el término coloquial francés para ‘bicho raro’. Se califica así también a las personas dotadas de una alta capacidad emocional\, sensitiva. Zèbre\, que se inspira en algunos de los genios más grandes de la cultura y el pensamiento universal\, es la última pieza de danza de la directora\, coreógrafa y bailarina Manuela Barrero. \nSentado\, un personaje sumido en tristes pensamientos\, una mano apoya en la cara… Su cabeza se precipita hacia la tierra\, ladeada\, sin expresión. \nEl camino que conduce a Zèbre está asfaltado de numerosas referencias\, punto de partida para la construcción de escenas\, dramaturgia\, luz\, escenografía\, sonido y\, sobre todo\, movimiento\, danza. Un ejemplo: cuenta Aristófanes que al comienzo del mundo los hombres tenían cuatro brazos y cuatro pies y\, orgullosos\, se comparaban con los dioses. Por ello fueron separados en dos mitades y\, desde entonces\, tienen la esperanza de verse unidos de nuevo y hacerse uno a través del amor. Esto me recuerda a Alegoría del placer y del dolor\, de Da Vinci\, y a la unión de las dos figuras que aparecen en su dibujo que\, según se cuenta\, son el propio artista y su amante”. \n  \n(Texto de Web El Pavón Teatro Kamikaze’) \nEstrellas Volodia
URL:https://volodia.es/calendario-de-estrenos/estrenos-zebre
LOCATION:El Pavón Teatro Kamikaze\, C/ Embajadores\, 9\, Madrid
CATEGORIES:Danza
END:VEVENT
END:VCALENDAR