BEGIN:VCALENDAR
VERSION:2.0
PRODID:-//Volodia - ECPv6.2.9//NONSGML v1.0//EN
CALSCALE:GREGORIAN
METHOD:PUBLISH
X-ORIGINAL-URL:https://volodia.es
X-WR-CALDESC:Eventos para Volodia
REFRESH-INTERVAL;VALUE=DURATION:PT1H
X-Robots-Tag:noindex
X-PUBLISHED-TTL:PT1H
BEGIN:VTIMEZONE
TZID:Europe/Helsinki
BEGIN:DAYLIGHT
TZOFFSETFROM:+0200
TZOFFSETTO:+0300
TZNAME:EEST
DTSTART:20220327T010000
END:DAYLIGHT
BEGIN:STANDARD
TZOFFSETFROM:+0300
TZOFFSETTO:+0200
TZNAME:EET
DTSTART:20221030T010000
END:STANDARD
END:VTIMEZONE
BEGIN:VEVENT
DTSTART;VALUE=DATE:20220609
DTEND;VALUE=DATE:20220610
DTSTAMP:20260421T133810
CREATED:20220606T161332Z
LAST-MODIFIED:20220606T161347Z
UID:13305-1654732800-1654819199@volodia.es
SUMMARY:Los tres mosqueteros
DESCRIPTION:Autor: Alejandro Dumas. \nDirección: José Carlos García. \nIntérpretes: Ángel Fragua\, Beatriz Solís\, João Figueira\, Samuel Querido y Tiago Poiares. \nProducción: ESTE -Estaçao Teatral y Marmore\, DG Artes de Portugal  y el Festival de Teatro Clásico de Cáceres. \nFechas: 9 junio de 2022. \n\n“Los Mosqueteros han reflejado siempre un espíritu heroico y noble. Seres llenos de valores y virtudes\, erigidos en los grandes defensores del Reino de Francia contra todos los peligros posibles. \nEsta bidimensionalidad de los personajes contrasta con la riqueza humana de los creados por Alexandre Dumas\, llenos de contradicciones. Los defectos\, los vicios\, la moral y las actitudes reprobables de estos personajes es lo que precisamente les otorga una extraordinaria humanidad en la novela. Aceptar que Athos es alcohólico\, que Porthos extorsiona al marido de su amante\, que Aramis demuestra vocación religiosa pero no puede ocultar su amorío y que D’Artagnan\, un joven muy impetuoso y apasionado que se declara totalmente enamorado a una mujer y se encama al tiempo con otra\, es buscar lo demasiado universal que podemos encontrar en los seres humanos y -precisamente eso- es lo que queremos ver plasmado en las acciones y en el espacio. Si a esto se suman las intrigas y maquinaciones políticas del cardenal Richelieu\, las artimañas y juegos de la sensual Milady de la mano del malvado Rochefort\,  la puerilidad de los reyes de Francia y la inocencia (o así) de Constance\, se reúnen los impulsos que darán forma a esta creación. \nUna coproducción hispano-lusa entre ESTE -Estaçao Teatral y Marmore\, DG Artes de Portugal  y el Festival de Teatro Clásico de Cáceres\,  bajo la dirección de José C. Garcia\, que consigue aunar una de las mejores novelas de aventuras de todos los tiempos con una creación teatral contemporánea llena de originalidad\, música en directo\, humor y alguna que otra sorpresa…”. \n\n(Texto de Festival de Teatro Clásico de Cáceres).
URL:https://volodia.es/calendario-de-estrenos/estrenos-tres-mosqueteros-festival-caceres-2022
LOCATION:Gran Teatro de Cáceres\, Calle San Antón\, 10\, Cáceres\, Cáceres\, 10003
CATEGORIES:Festival,Teatro
ATTACH;FMTTYPE=image/jpeg:https://volodia.es/wp-content/uploads/2022/06/Los-tres-mosqueteros_Festival-de-Caceres-2022-scaled.jpg
END:VEVENT
BEGIN:VEVENT
DTSTART;VALUE=DATE:20220609
DTEND;VALUE=DATE:20220610
DTSTAMP:20260421T133810
CREATED:20220608T105201Z
LAST-MODIFIED:20220608T105203Z
UID:13366-1654732800-1654819199@volodia.es
SUMMARY:31º Festival de Teatro Clásicos en Alcalá
DESCRIPTION:El Festival Iberoamericano del Siglo de Oro de la Comunidad de Madrid. Clásicos en Alcalá inaugura la temporada veraniega de festivales de artes escénicas. Este año se celebrará entre el 9 de junio y el 3 de julio en teatros\, equipamientos monumentales y espacios al aire libre de Alcalá de Henares. En 25 días\, el Festival cuenta con 40 espectáculos y 27 estrenos (20 nacionales\, 6 estrenos iberoamericanos en España y 1 estreno peninsular)\, escenificaciones de 25 textos de autores del Siglo de Oro y participación de 11 directoras de escena. \nFechas: del 9 de junio al 3 de julio de 2022. \n \n\nMiguel de Cervantes\, Lope de Vega\, Calderón de la Barca\, Francisco de Rojas Zorrilla\, San Juan de la Cruz\, Santa Teresa de Jesús\, Tirso de Molina\, María de Zayas\, Ana Caro\, Sor Juana Inés de la Cruz\, el portugués Gil Vicente\, el alcalaíno Antonio de Solís y el mexicano Juan Ruiz de Alarcón protagonizan una programación clásica efervescente\, culta\, urbana y popular\, que incluye un homenaje a San Isidro y más de medio centenar de actividades\, entre representaciones\, jornadas académicas\, mesas redondas\, presentaciones de libros\, conciertos\, cine y exposiciones. \nEncargos del Festival Iberoamericano\nPor primera vez\, un festival español lleva a buen fin y estrena una coproducción del Siglo de Oro con un teatro colombiano\, en este caso\, con el destacado Teatro Mayor Julio Mario Santo Domingo de Bogotá\, dirigido por el maestro Ramiro Osorio\, y lo hace además sumando al Teatro Libre de Bogotá\, fundado en 1973\, en el 50 aniversario de andadura en la escena\, con el espectáculo Amo y criado\, de Francisco de Rojas Zorrilla\, dirigido por Eduardo Vasco. El proyecto cuenta con el apoyo de la Embajada de Colombia. \nEl Festival Iberoamericano estrenará también una coproducción con la prestigiosa Compañía Nacional de Teatro de México\, dirigida por el maestro Enrique Singer. Se trata de La Monja Alférez\, un texto atribuido recientemente por el catedrático de Literatura y director del Festival Olmedo Clásico\, Germán Vega (tras una investigación con el programa estadístico Stylo)\, al autor novohispano Juan Ruiz de Alarcón (nacido en México y fallecido en Madrid). El espectáculo cuenta con la dirección de la prestigiosa intérprete y directora mexicana Zaide Silvia Gutiérrez. \nCompañías madrileñas dedicadas al estudio del Siglo de Oro\nDentro de la programación nacional\, el Festival estrenará también 6 encargos propios\, que se han materializado a través del trabajo directo con compañías madrileñas dedicadas al teatro del Siglo de Oro: Borja Rodríguez estrenará El amor enamorado \, de Lope de Vega\, con la actriz Teté Delgado como protagonista. Rodrigo Arribas dirige La Dama Boba \, de Lope de Vega\, en una producción de la Fundación Siglo de Oro; Antonio Castillo Algarra estrena Más acá de los romances \, a partir del Romancero; la directora Gonzala Martín Scherman estrena El marqués de las Navas \, una obra madrileña de Lope de Vega nunca representada. Rakel Camacho dirige el texto Que mujer prodigio soy (dramaturgas de oro) \, de Juana Escabias\, en una coproducción hispanoargentina de Territorio Violeta y Calema Producciones\, que recupera textos de Sor Juana Inés de la Cruz\, María de Zayas y Sotomayor y Ana Caro Mallén. Por su parte\, El llanto de María Parda\,  del portugués Gil Vicente\, dirigida por Álvaro Nogales\, será una nueva apuesta del Festival por la escenificación contemporánea de los clásicos\, a cargo de jóvenes directores\, como ya se hiciera en la pasada edición con Josete Corral y Daniel Alonso de Santos. \nCreaciones nacionales\n\nDentro de las creaciones nacionales\, la Compañía Nacional de Teatro Clásico hará triplete en el programa\, con Alma y palabra\, de San Juan de la Cruz\, con dramaturgia de José Carlos Plaza\, que dirige Lluís Homar\, Numancia\, de Cervantes\, coproducida con Nao d’amores\, y con dirección de Ana Zamora y el montaje familiar Lope sobre ruedas\, con el que el que la autora e intérprete Georgina de Yebra nos habla de Lope subida a una bicicleta. Blanca Marsillach y Miguel Rellán interpretarán Una noche con los clásicos\, el emblemático espectáculo compuesto por Adolfo Marsillach\, dirigido en esta ocasión por Mario Gas. Aitana Sánchez-Gijón y Marta Poveda traerán su Malvivir\, de Álvaro Tato\, con dirección de Yayo Cáceres; y Rafael Rodríguez capitaneará\, al frente de la compañía canaria especializada en clásico 2RC Teatro\, otra joya poco conocida de Lope de Vega\, La Boba para los otros . \nCreación Alcalá\n\nCon el fin de dar visibilidad y apoyo a la creación escénica alcalaína\, el Festival inaugura el ciclo Creación Alcalá \, con escenificaciones dirigidas por Ainhoa Amestoy\, Pepa Pedroche\, Noelia Pérez o Sonia Rubio. \nVolverán a celebrarse las Jornadas del Teatro del Siglo de Oro Español\, (pilar fundamental de este nuevo Festival)\, tituladas 90 años de La Barraca. Hacia un teatro clásico en escena \, que dirige el catedrático Luciano García Lorenzo\, con la presencia de destacados representantes del mundo académico tales como César Oliva (Universidad de Murcia)\, María Palacios (Universidad de Salamanca)\, Héctor Brioso (Universidad de Alcalá)\, Julio Vélez (ITEM-Universidad Complutense)\, Frederick de Armas (University of Chicago) o Esther Fernández\, Rice University (Estados Unidos). \nSe celebrará\, por primera vez\, el encuentro Otras Miradas: el Siglo de Oro visto por mujeres de hoy\, coordinado por Amaranta Osorio\, con la participación de Ainhoa Amestoy\, Natalia Menéndez\, Laila Ripoll\, Yolanda Pallín\, Ana Contreras\, Magüi Mira\, Marifé Santiago\, Ana Zamora\, Carolina Calema\, y la actriz y directora mexicana Emma Dib. \nSe exhibirán también en el Festival tres producciones mexicanas\, una chilena\, otra hispano – argentina y otra neoyorquina\, que sumarán un total de 15 funciones internacionales de 8 espectáculos diferentes.
URL:https://volodia.es/calendario-de-estrenos/estrenos-festival-clasicos-en-alcala-2022
LOCATION:Festival Clásicos en Alcalá (Alcalá de Henares)\, Varios espacios\, Alcalá de Henares\, Madrid
CATEGORIES:Festival,Teatro
ATTACH;FMTTYPE=image/jpeg:https://volodia.es/wp-content/uploads/2022/06/La-hermosa-fea.jpg
END:VEVENT
END:VCALENDAR