BEGIN:VCALENDAR
VERSION:2.0
PRODID:-//Volodia - ECPv6.2.9//NONSGML v1.0//EN
CALSCALE:GREGORIAN
METHOD:PUBLISH
X-ORIGINAL-URL:https://volodia.es
X-WR-CALDESC:Eventos para Volodia
REFRESH-INTERVAL;VALUE=DURATION:PT1H
X-Robots-Tag:noindex
X-PUBLISHED-TTL:PT1H
BEGIN:VTIMEZONE
TZID:Europe/Helsinki
BEGIN:DAYLIGHT
TZOFFSETFROM:+0200
TZOFFSETTO:+0300
TZNAME:EEST
DTSTART:20220327T010000
END:DAYLIGHT
BEGIN:STANDARD
TZOFFSETFROM:+0300
TZOFFSETTO:+0200
TZNAME:EET
DTSTART:20221030T010000
END:STANDARD
END:VTIMEZONE
BEGIN:VEVENT
DTSTART;VALUE=DATE:20220120
DTEND;VALUE=DATE:20220121
DTSTAMP:20260423T002439
CREATED:20211212T144620Z
LAST-MODIFIED:20211212T144812Z
UID:11338-1642636800-1642723199@volodia.es
SUMMARY:Galería
DESCRIPTION:Dirección\, idea original\, baile\, coreografía y pintura:  José Maldonado.  \nCodirección: Mariana Collado. \nMúsica Original: Víctor Guadiana\, Carlos Cuenca\, Pablo Gómez Molina\, José Almarcha\, Sandra Carrasco\, Belén Cabanes y Mariola Membrives. \nProducción: Danza Molina S.L. y Management El Mandaíto Producciones S.L.  \nFechas: del 20 al 23 de enero de 2022.  \n \n\n“Galería se define como un espectáculo contemporáneo y multidisciplinar donde se combinan tres lenguajes: la danza\, que utiliza como eje inicial el flamenco; la plástica\, con exposición de obra pictórica y creación en directo de una nueva obra; y el lenguaje audiovisual\, con una pieza interactiva que une los tres lenguajes. \n\nEl propósito de este montaje es introducir al espectador en una acogedora atmósfera visual y sonora no convencional en la que se desarrollan las distintas coreografías\, en una arriesgada y versátil puesta en escena. \nJosé Maldonado presenta en solitario cuatro escenas que rinden homenaje al arte y la cultura y a las figuras de cuatro artistas insignes españoles. Falla\, Lorca\, Dalí y Carmen Amaya sirven de inspiración a Maldonado en la creación de este maravilloso paseo cultural. Galería es un espacio único\, exclusivo\, dinámico y exquisito en el que se contemplará la danza y la obra explosiva y elegante de este artista. Sirviendo él como nexo de unión entre esas figuras y el espectador\, todo comenzará con una primera parada imprevisible y efímera. \nEste trabajo muestra a Maldonado en todo su esplendor. Enseña lo delicado y minucioso de su forma de trabajar y también la fuerza de su interpretación y el poder de su estética. Maldonado es arte en estado puro. ¡Pasen y vean su Galería!” \n\n (Texto de Teatro Español)\n\nEstrellas Volodia
URL:https://volodia.es/calendario-de-estrenos/estrenos-galeria-jose-maldonado-matadero-2022
LOCATION:Matadero Madrid – Naves del Español (Sala Max Aub)\, Paseo de la Chopera\, 14\, Madrid
CATEGORIES:Danza,Flamenco
END:VEVENT
END:VCALENDAR