BEGIN:VCALENDAR
VERSION:2.0
PRODID:-//Volodia - ECPv6.2.9//NONSGML v1.0//EN
CALSCALE:GREGORIAN
METHOD:PUBLISH
X-ORIGINAL-URL:https://volodia.es
X-WR-CALDESC:Eventos para Volodia
REFRESH-INTERVAL;VALUE=DURATION:PT1H
X-Robots-Tag:noindex
X-PUBLISHED-TTL:PT1H
BEGIN:VTIMEZONE
TZID:Europe/Helsinki
BEGIN:DAYLIGHT
TZOFFSETFROM:+0200
TZOFFSETTO:+0300
TZNAME:EEST
DTSTART:20220327T010000
END:DAYLIGHT
BEGIN:STANDARD
TZOFFSETFROM:+0300
TZOFFSETTO:+0200
TZNAME:EET
DTSTART:20221030T010000
END:STANDARD
END:VTIMEZONE
BEGIN:VEVENT
DTSTART;VALUE=DATE:20220114
DTEND;VALUE=DATE:20220115
DTSTAMP:20260421T120946
CREATED:20220118T083528Z
LAST-MODIFIED:20220118T084636Z
UID:11559-1642118400-1642204799@volodia.es
SUMMARY:Orquesta de señoritas
DESCRIPTION:Autor: Jean Anouilh.\n \nAdaptación: Carlos Laso y Amelia Die. \nDirección: Rosa Rodríguez. \nIntérpretes: Amelia Die\, Remedios Becerra\, María Teresa Vélez\, Olga de Frutos\, Ismael Cuesta\, Fernando Aznar\, Miguel Cambero\, Esther Muñoz\, Ricardo Uría. \nCompañía: Zurdos Contrariados. \nFecha: del 14 al 23 de enero de 2022. \nHorarios: Viernes y sábados\, a las 20.00h. Domingos a las 19.00h. \n\n\n\n\n \n“El Gran Ambigú de las Termas de Albentosa recibe a la Imperial Band. Estamos en la posguerra y los músicos de esta orquestina barata relatan sus problemas y miserias morales frente a los clientes del balneario donde se cura el estreñimiento\, mientras interpretan sus piezas de mayor éxito.  En esta  comedia negra y siniestra del autor francés Jean Anouilh\, la víctima última es la más inocente”. \n(Texto de Teatro Lagrada)
URL:https://volodia.es/calendario-de-estrenos/estrenos-orquesta-senoritas-anouilh-zurdos-contrariados-lagrada-2022
LOCATION:Teatro Lagrada\, C/ Ercilla\, 20\, Madrid
CATEGORIES:Teatro
END:VEVENT
END:VCALENDAR