BEGIN:VCALENDAR
VERSION:2.0
PRODID:-//Volodia - ECPv6.2.9//NONSGML v1.0//EN
CALSCALE:GREGORIAN
METHOD:PUBLISH
X-ORIGINAL-URL:https://volodia.es
X-WR-CALDESC:Eventos para Volodia
REFRESH-INTERVAL;VALUE=DURATION:PT1H
X-Robots-Tag:noindex
X-PUBLISHED-TTL:PT1H
BEGIN:VTIMEZONE
TZID:Europe/Helsinki
BEGIN:DAYLIGHT
TZOFFSETFROM:+0200
TZOFFSETTO:+0300
TZNAME:EEST
DTSTART:20220327T010000
END:DAYLIGHT
BEGIN:STANDARD
TZOFFSETFROM:+0300
TZOFFSETTO:+0200
TZNAME:EET
DTSTART:20221030T010000
END:STANDARD
END:VTIMEZONE
BEGIN:VEVENT
DTSTART;VALUE=DATE:20220210
DTEND;VALUE=DATE:20220211
DTSTAMP:20260421T133547
CREATED:20211123T190649Z
LAST-MODIFIED:20211123T190700Z
UID:10787-1644451200-1644537599@volodia.es
SUMMARY:Dragón
DESCRIPTION:Autor: Guillermo Calderón.\n \nDirección: Guillermo Calderón. \nIntérpretes: Luis Cerda\, Camila González y Francisca Lewin. \nProducción: Teatro a Mil Foundation\, Teatro UC y Theater der Welt 2020 (Düsseldorf). \nFechas: del 10 al 13 de febrero de 2022. \n\n\n\n\n \n“El grupo Dragón se junta periódicamente en un restaurante de Plaza Italia para planear y definir su próxima instalación artística. Sin embargo\, esta vez han elegido un tema tan complejo que están enfrentados en un amargo conflicto que los está destruyendo. La única salida es hacer una nueva obra que restituya la confianza. Pero para ellos ya es demasiado tarde. La única salida posible es la creación a partir de la traición. \nEl nuevo montaje del reconocido dramaturgo y director Guillermo Calderón es una coproducción de Teatro a Mil Foundation\, Teatro UC y Theater der Welt 2020”. \n(Texto de CDN)
URL:https://volodia.es/calendario-de-estrenos/estrenos-guillermo-calderon-cdn-2021
LOCATION:Teatro Valle-Inclán (Sala Grande)\, Plazuela de Ana Diosadado\, s/n\, Madrid\, Madrid\, 28012
CATEGORIES:Teatro
END:VEVENT
BEGIN:VEVENT
DTSTART;VALUE=DATE:20220210
DTEND;VALUE=DATE:20220211
DTSTAMP:20260421T133547
CREATED:20211212T150850Z
LAST-MODIFIED:20211212T153728Z
UID:11351-1644451200-1644537599@volodia.es
SUMMARY:El mal de la montaña
DESCRIPTION:Autor:  Santiago Loza.  \nDirección: Fernando Delgado-Hierro y Francesco Carril. \nIntérpretes: Luis Sorolla\, Ángela Boix\, Fernando Delgado-Hierro y Francesco Carril. \nProducción: Teatro Español y Buxman Producciones. \nFechas: del 10 de febrero al 3 de abril de 2022.  \n \n\n“El mal de la montaña es el relato cruzado de cuatro jóvenes\, que se buscan anhelando consuelo. Comienza con la angustia de Manu\, que narra a su amigo Tino el episodio de su ruptura con Pamela\, el único personaje femenino de la obra\, una ruptura que estaba resultando a la perfección (el marco era incomparable: la lluvia fina cayendo\, el paseo mudo y distante por la calle…) hasta la irrupción de un mendigo orinando en la acera de en frente. Lo que atormenta a Manu no es la ruptura en sí\, es la aparición en lo real de algo que se escapa al marco de su relato\, de algo que lo vuelve vulgar\, de algo que deshace la imagen perfecta de una ruptura que estaba saliendo de una redondez novelesca. \n\nLos personajes de esta pieza desean profundamente estar en control de la realidad a través de sus propios relatos. Es la realidad la que debe acomodarse al relato y no al contrario. Podríamos decir que esta pieza se adelanta en su sensibilidad a los tiempos actuales en que las redes sociales determinan a unos individuos que han tomado una posición de relatores de sus propias vivencias en un marco virtual y en el que solo cabe aquello que es válido al filtro de su discurso\, de su elaboración. El mendigo orinando queda fuera de la foto de Instagram. Y eso es lo que atormenta a Manu\, que el mendigo haya podido quedar en la retina de Pamela\, que ese otro se haya colado en su visión controlada del mundo\, en su particular ‘frame’. \nLas voces de los demás personajes nacen desde esta misma esencia\, como la obsesión de Pamela con que su ex novio no soportara su nombre\, la narración de Tino de una relación fallida en la que tuvo que ocultar su ausencia total de deseo\, o la agresividad de Ramo con aquellos a los que considera una amenaza: los otros\, los pobres. Los cuatro son personajes ensimismados\, que se relacionan desde un lugar a veces superfluo y a veces de una descarnada sinceridad. Hacen gala de esa honestidad que tienen los que no se plantean si hacen daño\, los que no se preocupan de las consecuencias que pueden provocar sus palabras en los demás. De ese intercambio surge un retrato crudo de nuestros días\, de nosotros\, de la parte más oscura de nuestra cotidianeidad”. \n(Texto de Teatro Español)
URL:https://volodia.es/calendario-de-estrenos/estrenos-mal-montana-loza-delgado-hierro-carril-teatro-espanol-2022
LOCATION:Teatro Español (Sala Margarita Xirgu)\, C/ Príncipe\, 25\, Madrid
CATEGORIES:Teatro
END:VEVENT
BEGIN:VEVENT
DTSTART;VALUE=DATE:20220210
DTEND;VALUE=DATE:20220211
DTSTAMP:20260421T133547
CREATED:20220117T091752Z
LAST-MODIFIED:20220117T091844Z
UID:11539-1644451200-1644537599@volodia.es
SUMMARY:Otoño en abril
DESCRIPTION:Texto: Carolina África.\n \nDirección: Carolina África. \nIntérpretes:  Pilar Manso\, Beatriz Grimaldos\, Carolina África\, Majo Moreno y Laura Cortón. \nProducción: La Belloch Teatro. \nFechas: del 10 al 26 de febrero de 2022. \n \n“Siempre fantaseé con dar continuidad a los personajes de Verano en diciembre\, obra en la que con mucho amor había confrontado mi propia vida y que tuvimos el honor de representar en esta casa. \nCuando contaba varios meses de embarazo\, el Pavón Teatro Kamikaze me concedió su segunda beca de escritura. La vida cambiaba rápido: yo pasaría de ser hija a ser madre y la familia a la que pertenezco se vincularía para siempre a la nueva familia que estaba a punto de crear. \nDi un título: Otoño en abril. \nY me aventuré a bucear en aquellas mujeres de ficción donde nuevamente podía volcar mis miedos\, anhelos\, ilusiones y pesadillas.\nEllas deseaban\, como yo\, volver a esta casa; lo conseguimos. \nPor todo ello\, Otoño en abril no es únicamente la segunda parte de Verano en diciembre: es el resultado creativo de una nueva etapa de mi vida en la que he desnudado mi alma amparada por la ficción\, y donde cualquier parecido con la realidad no es más que pura\, hermosa o dolorosa coincidencia”. \n(Texto de Carolina África)
URL:https://volodia.es/calendario-de-estrenos/estrenos-otono-en-abril-carolina-africa-cuarta-pared-2022
LOCATION:Sala Cuarta Pared\, C/ Ercilla\, 17\, Madrid
CATEGORIES:Teatro
END:VEVENT
END:VCALENDAR