BEGIN:VCALENDAR
VERSION:2.0
PRODID:-//Volodia - ECPv6.2.9//NONSGML v1.0//EN
CALSCALE:GREGORIAN
METHOD:PUBLISH
X-ORIGINAL-URL:https://volodia.es
X-WR-CALDESC:Eventos para Volodia
REFRESH-INTERVAL;VALUE=DURATION:PT1H
X-Robots-Tag:noindex
X-PUBLISHED-TTL:PT1H
BEGIN:VTIMEZONE
TZID:Europe/Helsinki
BEGIN:DAYLIGHT
TZOFFSETFROM:+0200
TZOFFSETTO:+0300
TZNAME:EEST
DTSTART:20220327T010000
END:DAYLIGHT
BEGIN:STANDARD
TZOFFSETFROM:+0300
TZOFFSETTO:+0200
TZNAME:EET
DTSTART:20221030T010000
END:STANDARD
END:VTIMEZONE
BEGIN:VEVENT
DTSTART;VALUE=DATE:20220217
DTEND;VALUE=DATE:20220218
DTSTAMP:20260421T114614
CREATED:20211212T151617Z
LAST-MODIFIED:20211212T152024Z
UID:11354-1645056000-1645142399@volodia.es
SUMMARY:La batalla de los ausentes
DESCRIPTION:Autor:  Eusebio Calonge.  \nDirección: Paco de La Zaranda. \nCompañía: La Zaranda. \nIntérpretes: Francisco Sánchez\, Gaspar Campuzano y Enrique Bustos. \nProducción: La Zaranda – Teatro inestable de ninguna parte . \nFechas: del 17 de febrero al 20 de marzo de 2022. \n\n\n“La batalla de los ausentes”\, de La Zaranda / Foto: Víctor Iglesias\n\n\n\n\n\n\n\n“Más que son\, fueron. Sobrevivientes de una guerra que nadie recuerda\, por más que no cejen en su intento vano de ganar una batalla contra el olvido\, magnificando aquellas escaramuzas\, meras efemérides que a nadie interesan. Estos quijotes que parecen desenterrados de la zanja de la historia\, desde el final de sus destinos se preguntan: ¿Hubiese sido distinto de haber alcanzado la victoria en aquella lejana guerra? \n\n¿Fue aquel el combate crucial o queda el decisivo contra la muerte? La sátira del poder y la fe como acto de resistencia\, son los polos que cruzan estos personajes. La suya es la lucha desesperada por la propia vida\, campo de batalla\, combate sin tregua por la conquista de un destino. \nLos tres actores clásicos de Zaranda\, su núcleo duro\, son el ejército en desbandada de esta ardua y larga batalla\, su lenguaje reconocido es su desarbolada bandera en un mundo en guerra contra el sentido poético de la existencia. Escaramuzas\, deserciones y frentes que se abren en sus propias consciencias. La metáfora de un combate\, la belleza de la derrota y el triunfo de los que pese a ella nunca pierden el horizonte. \nEn un momento en que el pesimismo\, la tristeza o la desesperanza nos han derrotado\, en La batalla de los ausentes resucitan una espada de luz contra esos jinetes oscuros\, en un canto a la dignidad humana contra todo los que ocultan al amanecer su horizonte”. \n\n(Texto de Teatro Español)
URL:https://volodia.es/calendario-de-estrenos/estrenos-la-batalla-de-los-ausentes-zaranda-teatro-espanol-2022
LOCATION:Teatro Español (Sala Principal)
CATEGORIES:Teatro
END:VEVENT
END:VCALENDAR