BEGIN:VCALENDAR
VERSION:2.0
PRODID:-//Volodia - ECPv6.2.9//NONSGML v1.0//EN
CALSCALE:GREGORIAN
METHOD:PUBLISH
X-ORIGINAL-URL:https://volodia.es
X-WR-CALDESC:Eventos para Volodia
REFRESH-INTERVAL;VALUE=DURATION:PT1H
X-Robots-Tag:noindex
X-PUBLISHED-TTL:PT1H
BEGIN:VTIMEZONE
TZID:Europe/Helsinki
BEGIN:DAYLIGHT
TZOFFSETFROM:+0200
TZOFFSETTO:+0300
TZNAME:EEST
DTSTART:20220327T010000
END:DAYLIGHT
BEGIN:STANDARD
TZOFFSETFROM:+0300
TZOFFSETTO:+0200
TZNAME:EET
DTSTART:20221030T010000
END:STANDARD
END:VTIMEZONE
BEGIN:VEVENT
DTSTART;VALUE=DATE:20220615
DTEND;VALUE=DATE:20220616
DTSTAMP:20260421T190241
CREATED:20211213T164908Z
LAST-MODIFIED:20230115T155604Z
UID:11393-1655251200-1655337599@volodia.es
SUMMARY:Hamlet
DESCRIPTION:Texto: William Shakespeare. \nDramaturgia y dirección: Chela de Ferrari. \nIntérpretes:  Octavio Bernaza\, Jaime Cruz\, Lucas Demarchi\, Manuel García\, Diana Gutiérrez\, Cristina León Barandiarán\, Ximena Rodríguez y Álvaro Toledo. \nFechas: del 15 al 19 de junio de 2022. \n\n“Un grupo de personas con síndrome de Down toma el escenario para compartir sus anhelos y frustraciones a través de una versión recontra libre de Hamlet. \nLa obra es un tejido entre el texto de Shakespeare y la vida de los actores y toma como punto de partida la pregunta que nos formula frente a la existencia. \n¿Ser o no ser? ¿Qué implica ser para personas que no encuentran espacios donde se los tome en cuenta? \nHistóricamente las personas con síndrome de Down han sido consideradas como una carga\, un desecho social. ¿Qué valor y sentido tiene su existencia hoy en un mundo donde la eficiencia\, la capacidad de producción y modelos inalcanzable de consumo y belleza son el paradigma del ser humano?”. \n(Texto de Chela de Ferrari para CDN)
URL:https://volodia.es/calendario-de-estrenos/estrenos-hamlet-chela-ferrari-cdn-2022
LOCATION:Teatro Valle-Inclán (Sala Francisco Nieva)
CATEGORIES:Teatro
ATTACH;FMTTYPE=image/jpeg:https://volodia.es/wp-content/uploads/2020/12/hamlet-11-ferrari.jpg
END:VEVENT
BEGIN:VEVENT
DTSTART;VALUE=DATE:20220615
DTEND;VALUE=DATE:20220616
DTSTAMP:20260421T190241
CREATED:20220521T105949Z
LAST-MODIFIED:20220605T144915Z
UID:12980-1655251200-1655337599@volodia.es
SUMMARY:Criadas
DESCRIPTION:Creación: Lucas Ares y Víctor Longás\, a partir de Las criadas\, de Jean Genet. \nTextos y dirección: Víctor Longás. \nIntérpretes: Ana Ruth Resco y Lucas Ares. \nProducción: Desgarradura. \nFechas: 15 y 16 de junio de 2022. \n\n“En Criadas hablamos de la guerra\, de dos seres que han llegado al límite\, al punto de no retorno\, de dos cuerpos que son dolor y campo de batalla y que dicen que no pueden más\, que les pesa el mundo\, la tristeza\, la soledad\, la violencia\, les pesa el tiempo y les pesa el otro. \nA partir de Las Criadas de Jean Genet\, textos filosóficos e iconografía de la cultura pop construimos una pieza que es el reflejo de esas vidas\, deseos\, fracasos y situaciones que nos hacen humanos\, de todo lo que nos merecíamos y nunca veremos\, de esas oportunidades negadas\, de la rendición\, de la desesperanza\, aceptación y dolor. De la muerte de las ilusiones\, de las últimas salidas y los actos desesperados\, de la locura y el amor atravesados por la soledad\, el peligro y el miedo\, de la naturaleza animal y perversa del hombre. Exponemos las historias de todas las que somos\, hemos sido o seremos esas criadas porque es el momento de hablar desde el margen de todos los malestares contemporáneos\, de crear desde ese inconformismo un arte radicalmente destructivo\, una estética del fracaso\, junto al teatro de sangre de Artaud queremos un teatro de suciedad\, lentejuelas y destrucción\, de restos\, de bilis\, de peligro\, de pasión\, y es que el teatro se ha convertido en uno de los últimos lugares en los que poder ser apasionado. \nDesgarradura está formada por Lucas Ares y Víctor Longás. Se conocen en la Real Escuela Superior de Arte Dramático de Madrid en 2017 y comienzan a trabajar aunando sus visiones afines sobre la escena: la relación del movimiento con las artes plásticas y a la construcción de procesos de investigación desde las artes visuales\, siempre en el límite de los diferentes lenguajes. \nEn 2021 estrenan\, dentro del festival de Domingos de Insurrección\, la pieza Díptico de Verónica\, una exploración escénica del amor a partir de la imagen de figura religiosa de La Verónica. Con su pieza Criadas han sido beneficiarios de una residencia de creación en las VII Jornadas Escénicas INJUVE 2021″. \n\n(Texto de Teatro Quique San Francisco).
URL:https://volodia.es/calendario-de-estrenos/estrenos-criadas-desgarradura-quique-san-francisco-2022
LOCATION:Teatro Quique San Francisco (Sala Joven)\, Calle de Galileo\, 39\, Madrid\, Madrid\, 28015
CATEGORIES:Teatro
ATTACH;FMTTYPE=image/jpeg:https://volodia.es/wp-content/uploads/2022/05/Criadas_Desgarradura.jpg
END:VEVENT
BEGIN:VEVENT
DTSTART;VALUE=DATE:20220615
DTEND;VALUE=DATE:20220616
DTSTAMP:20260421T190241
CREATED:20220521T181256Z
LAST-MODIFIED:20220605T144754Z
UID:12992-1655251200-1655337599@volodia.es
SUMMARY:Un Oscar para Óscar
DESCRIPTION:Autor: Mario Hernández. \nDirección: Mario Hernández. \nIntérpretes: Jon Plazaola\, Agustín Jiménez\, Rebeca Sala y Mara Guil. \nProducción: Txalo Producciones y La Mandanga. \nFechas: desde el 15 de junio de 2022.  \nHorarios: de miércoles a viernes\, 20.00h / Sábados\, 19.00h. y 21.30h. / Domingos\, 19.00h. \n\n“Estamos en la ciudad de Los Ángeles\, el día que se celebra la ceremonia de los Premios de la Academia\, los Oscar; concretamente\, en un modesto motel a las afueras de la ciudad\, en la habitación que servirá de escenario único\, y donde a través de una cristalera se ve\, a lo lejos\, el gigantesco cartel de Hollywood. \nAquí llegan Óscar Manzano\, un joven director cuyo cortometraje ha sido nominado a los premios\, acompañado\, ni siquiera él sabe muy bien por qué\, por el ministro de Cultura Guillermo Barrientos\, y la ministra de Hacienda Irene Navarro. Entre continuos rifirrafes de los dos políticos\, que no se soportan\, y a pocas horas de empezar la ceremonia\, se presenta en la habitación de Óscar la joven Pauline\, una “escort girl”\, contratada a escondidas por Guillermo para que finja ser la novia de Óscar durante la gala y la alfombra roja… \nEste imposible grupo de cuatro vivirá la noche más loca de sus vidas en ese aislado motel\, encontrándose y desencontrándose en algo que nos une a todos: nuestros sueños y todo lo que perdemos en el camino a conseguirlos”. \n (Texto de Mario Hernández)
URL:https://volodia.es/calendario-de-estrenos/estrenos-oscar-para-oscar-2022
LOCATION:Teatro Bellas Artes
CATEGORIES:Teatro
ATTACH;FMTTYPE=image/jpeg:https://volodia.es/wp-content/uploads/2022/05/Un-Oscar-para-Oscar_Javier-Naval.jpg
END:VEVENT
BEGIN:VEVENT
DTSTART;VALUE=DATE:20220615
DTEND;VALUE=DATE:20220616
DTSTAMP:20260421T190241
CREATED:20220604T103721Z
LAST-MODIFIED:20220605T143016Z
UID:13196-1655251200-1655337599@volodia.es
SUMMARY:Forever Young
DESCRIPTION:Autor:  Erik Gedeon. \nMúsica: Nacio Herb Brown y Arthur Freed. \nDirección y adaptación:  Tricicle.  \nDirección musical: Marc García Rami. \nIntérpretes: Llorenç González\, Lucía Torres\, Rai Borrell\, Mercè Martínez\, Marc Pujol\, Irene Jódar\, Marc García (piano). \nProducción: Tricicle. \nFechas: del 15 de junio al 31 de julio de 2022.  \n  \n\n“Forever Young fue el descubrimiento que hicieron Tricicle en Noruega\, donde vieron por primera vez la versión original de esta obra de Erik Gedeon. Falta decir que quedaron fascinados y en seguida comenzaron a trabajar en su versión en castellano para poder mostrársela al público español y en general al de habla hispana. \nDesde el estreno de esta versión en Barcelona (2011) se han realizado alrededor de 500 funciones entre España\, Argentina\, Francia\, México y Perú. \nAunque la sabiduría popular aconseja que “si algo está bien\, no lo cambies”\, la reposición de este nuevo Forever Young (2021) cuenta con un elenco diferente y la puesta al día de las referencias contemporáneas. Además\, añade los diez años de experiencia acumulados tanto en el teatro como en esta cosa que se llama “vida” y que es\, de hecho\, la esencia del libreto de esta obra. \nSinopsis\nSeis viejos centenarios pasan una velada en el escenario de un teatro reconvertido en asilo de artistas. Algunas noches\, los residentes se visten con sus mejores galas y rememoran (o inventan) sus éxitos de antaño en compañía de una enfermera empeñada en martirizarles con canciones infantiles que potencien su psicomotricidad\, pero en cuanto ella les deja solos\, su indómito espíritu rockero sale para dejar constancia de que no han dejado de ser lo que siempre han sido\, rockeros; y cantan y gritan y bailan tanto como les permiten sus delicados esqueletos. Seis actores jóvenes se interpretan a sí mismos\, o a lo que serán dentro de cincuenta años“. \n\n\n(Texto de Smedia)
URL:https://volodia.es/calendario-de-estrenos/estrenos-forever-young-tricicle-teatro-alcazar-madrid-2022
LOCATION:Teatro Cofidis Alcázar
CATEGORIES:Teatro
ATTACH;FMTTYPE=image/jpeg:https://volodia.es/wp-content/uploads/2022/06/Forever-Young.jpg
END:VEVENT
BEGIN:VEVENT
DTSTART;VALUE=DATE:20220615
DTEND;VALUE=DATE:20220616
DTSTAMP:20260421T190241
CREATED:20220606T114741Z
LAST-MODIFIED:20220606T115046Z
UID:13291-1655251200-1655337599@volodia.es
SUMMARY:Hipatia de Alejandría
DESCRIPTION:Dramaturgia: Miguel Murillo. \nDirección: Pedro A. Penco. \nIntérpretes: Silvana Navas\, Rafael Ortíz\, Antonio M.M.\, Alberto Puerto\, Paca Velardíez\, Chema Pizarro\, Juan Carlos Tirado\, Francis Lucas\, Gema González. \nFechas: del 15 al 19 de junio de 2022. \n \n\n“Entre los siglos IV y V después de Cristo\, Alejandría es el más importante foco cultural del Imperio Romano de Oriente. En medio de esta vorágine nace Hipatia\, la hija del matemático y astrónomo Teón\, la primera mujer filósofa de la historia y la primera mujer científica dentro del concepto de ciencia de la antigüedad. Hipatia\, movida por su amor por el conocimiento\, funda escuela en la que sus discípulos reciben sus lecciones y sus mensajes de tolerancia y respeto. Su personalidad será puesta en entredicho por aquellos que movidos por el fanatismo y el odio a la promoción e igualdad de las mujeres\, la consideran enemiga para sus intereses. \nPor motivos evidentes\, algunos absolutamente vigentes en la actualidad\, creemos que llevar a escena este capítulo y este personaje de la antigüedad clásica\, protagonista de una auténtica tragedia\, y teniendo como base sus teorías\, enseñanzas e ideas transmitidas a lo largo de los siglos por sus discípulos\, es más que oportuno en estos tiempos de involución que vivimos. Esta obra nos cuenta la historia de Alejandría y la de Hipatia\, sus deseos\, sus realidades\, sus amores y sus duelos”. \n\n(Texto de Pentación).
URL:https://volodia.es/calendario-de-estrenos/estrenos-hipatia-alejandria-miguel-murillo-teatro-reina-victoria-2022
LOCATION:Teatro Reina Victoria\, Carrera de San Jerónimo 24\, Madrid
CATEGORIES:Teatro
ATTACH;FMTTYPE=image/png:https://volodia.es/wp-content/uploads/2022/06/Hipatia-de-Alenadria_1.png
END:VEVENT
END:VCALENDAR