BEGIN:VCALENDAR
VERSION:2.0
PRODID:-//Volodia - ECPv6.2.9//NONSGML v1.0//EN
CALSCALE:GREGORIAN
METHOD:PUBLISH
X-ORIGINAL-URL:https://volodia.es
X-WR-CALDESC:Eventos para Volodia
REFRESH-INTERVAL;VALUE=DURATION:PT1H
X-Robots-Tag:noindex
X-PUBLISHED-TTL:PT1H
BEGIN:VTIMEZONE
TZID:Europe/Helsinki
BEGIN:DAYLIGHT
TZOFFSETFROM:+0200
TZOFFSETTO:+0300
TZNAME:EEST
DTSTART:20220327T010000
END:DAYLIGHT
BEGIN:STANDARD
TZOFFSETFROM:+0300
TZOFFSETTO:+0200
TZNAME:EET
DTSTART:20221030T010000
END:STANDARD
END:VTIMEZONE
BEGIN:VEVENT
DTSTART;VALUE=DATE:20220625
DTEND;VALUE=DATE:20220626
DTSTAMP:20260421T133618
CREATED:20220509T170105Z
LAST-MODIFIED:20220605T144456Z
UID:12828-1656115200-1656201599@volodia.es
SUMMARY:Cada vez nos despedimos mejor
DESCRIPTION:Autor: Alejandro Ricaño. \nDirección: Alejandro Ricaño. \nIntérprete: Diego Luna. \nProducción: Producciones Come y Calla y La corriente del golfo \nFechas: De 25 de junio al 10 de julio de 2022.  \nHorario: viernes y sábados\, a las 20.00h. Domingos y lunes\, a las 19.00h. \n\n“Diego Luna interpreta una historia de amor sobre una pareja tratando de entender la manera de estar juntos a lo largo de casi cuarenta años\, teniendo como fondo una serie de acontecimientos que marcaron a México entre 1979 y el último terremoto en 2017. Cada vez nos despedimos mejor es una comedia de humor negro sobre el amor\, las relaciones contemporáneas\, la pérdida\, el destino y la necesidad de seguir\, siempre seguir\, a pesar de todo. \n\n\nCada vez nos despedimos mejor cuenta la historia de Mateo y Sara a lo largo de casi cuatro décadas. De 1979 −desde el último segundo del 31 de diciembre\, hora a la que ambos\, coordinadamente\, nacen− hasta el 19 de septiembre de 2017\, su última despedida\, en el terremoto que repetiría fecha con aquel del 85 que a los dos los separaría de sus madres. 38 años de encuentros y desencuentros tratando de hacer subsistir su amor en medio de un país que se desmorona a cada tanto. Al morir su madre\, Sara\, que no ha heredado otra cosa que una cámara Polaroid instantánea\, decide volverse fotoperiodista y viajar por el país documentando los eventos que van marcando nuestra historia. Desde su primer encuentro durante la marcha posterior a las elecciones de 1988 −donde Sara toma la primera fotografía de su vida y en la cual\, accidentalmente\, aparece Mateo− emprenden una búsqueda intrincada por estar juntos en un país que marcará sus encuentros con tragedias\, guerras y catástrofes naturales. \nCada vez nos despedimos mejor es un espectáculo con un actor y un músico en escena\, un monólogo contado desde el humor negro sobre el amor y las relaciones contemporáneas\, la soledad del individuo urbano\, la pérdida\, el destino y la necesidad\, a toda costa\, de tener siempre una segunda oportunidad. Aunque siempre volvamos a arruinarlo”. \n\n\n(Texto de Las Naves del Español en Matadero)
URL:https://volodia.es/calendario-de-estrenos/estrenos-cada-vez-nos-despedimos-mejor-diego-luna-matadero-2022
LOCATION:Matadero Madrid – Naves del Español (Sala Max Aub)\, Paseo de la Chopera\, 14\, Madrid
CATEGORIES:Teatro
ATTACH;FMTTYPE=image/jpeg:https://volodia.es/wp-content/uploads/2022/05/Cada-Vez-Nos-Despedimos-Mejor.jpg
END:VEVENT
END:VCALENDAR