BEGIN:VCALENDAR
VERSION:2.0
PRODID:-//Volodia - ECPv6.2.9//NONSGML v1.0//EN
CALSCALE:GREGORIAN
METHOD:PUBLISH
X-ORIGINAL-URL:https://volodia.es
X-WR-CALDESC:Eventos para Volodia
REFRESH-INTERVAL;VALUE=DURATION:PT1H
X-Robots-Tag:noindex
X-PUBLISHED-TTL:PT1H
BEGIN:VTIMEZONE
TZID:Europe/Helsinki
BEGIN:DAYLIGHT
TZOFFSETFROM:+0200
TZOFFSETTO:+0300
TZNAME:EEST
DTSTART:20220327T010000
END:DAYLIGHT
BEGIN:STANDARD
TZOFFSETFROM:+0300
TZOFFSETTO:+0200
TZNAME:EET
DTSTART:20221030T010000
END:STANDARD
END:VTIMEZONE
BEGIN:VEVENT
DTSTART;VALUE=DATE:20221126
DTEND;VALUE=DATE:20221127
DTSTAMP:20260420T122447
CREATED:20220924T091441Z
LAST-MODIFIED:20220924T092318Z
UID:14442-1669420800-1669507199@volodia.es
SUMMARY:Dans la mesure de l'impossible
DESCRIPTION:Texto: Tiago Rodrigues.\n \nDirección: Tiago Rodrigues. \nTraducción: Thomas Resendes. \nIntérpretes: Adrien Barazzone\, Beatriz Brás\, Baptiste Coustenoble\, Natacha Koutchoumov y Gabriel Ferrandini (músico). \nProducción: Comédie de Genève. \nFechas: 26 y 27 de noviembre de 2022. \n40º Festival de Otoño \nFoto: Magali Dougados\n“Más que nunca\, esta obra responde al concepto teatral del director y dramaturgo portugués Tiago Rodrigues\, para el que todo esto no es más\, ni menos\, que una asamblea humana\, un lugar para reunirse\, compartir ideas y pasar tiempo juntos. Inclinado siempre hacia un trabajo horizontal y colaborativo\, antes de la pandemia alumbró la idea\, junto a los actores y actrices de La Comédie de Ginebra (productora del espectáculo\, allí se estrenó en febrero de este año)\, de trabajar sobre la labor humanitaria de organizaciones como Cruz Roja o Médicos sin fronteras\, buscando quizás entender ese impulso de acción sin contrapartida\, ese querer un mundo mejor sabiendo que no es posible cambiarlo\, esa pulsión íntima cuya satisfacción está en sentir que se ayuda\, que se asiste\, que se está para los que necesitan como ningún otro la humanidad. El propio Rodrigues iba a enrolarse en misiones de estas organizaciones\, pero la crisis vírica lo impidió. Y\, según él mismo reconoce\, ha sido mejor así: “Habría vuelto lleno de certezas\, con la impresión de haberlo visto todo\, de poder contar la verdad sobre el mundo”. Cuántos turistas del sufrimiento que sepultan en selfies y stories la auténtica labor desinteresada… \nNo le tocaba a él contarlo\, sino ser un transmisor\, una suerte de médium. Ante la imposibilidad de viajar\, el director inicia una serie de reuniones en Ginebra con delegados de organizaciones humanitarias que le cuentan sus experiencias en diversos lugares del mundo. Esas historias encierran una forma de percibir el mundo y una forma de percibirse a sí mismos en relación con las duras realidades que han de vivir y compartir en sus misiones. Inspirándose en esos testimonios\, Rodrigues va hilando un relato que\, subraya\, “no es teatro documental\, sino teatro documentado\, sin aspirar a producir un ensayo exhaustivo sobre el humanitarismo”. Es un relato que expone los dilemas de un grupo de hombres y mujeres que se mueven entre zonas conflictivas y un hogar tranquilo y seguro\, entre la inmediatez de la acción y la reflexión posterior\, la capacidad de autocrítica y la búsqueda de fuerzas internas para seguir ganándole tiempo a lo que puede estar por llegar. La Historia nos ha demostrado que\, lejos de aprender\, el ser humano siempre puede ir a peor. Pareciera que estas personas de entrega abnegada son cortafuegos de incendios tenaces que siempre encuentran un nuevo foco desde el que arrasar. Pero no se sienten héroes\, ni tampoco es cómodo para ellos asumir ese papel. \nTiago Rodrigues dejó el año pasado la dirección del Teatro Nacional D. Maria II de Lisboa\, cargo que ocupaba desde 2015\, para ser el primer artista no francés que dirige el prestigioso Festival de Avignon. Antes de meterse en faena en esta insigne e inmensa labor de gestión\, dejó terminada Dans la mesure de l’imposible\, una puesta en abismo al calor de una carpa donde los relatos percuten como las baquetas sobre los timbales de una batería (literal\, ahí está aporreando el músico portugués Gabriel Ferrandini junto a los cuatro actores de la obra). Con un trabajo de dirección y dramaturgia escénica reducido a la esencia\, aparentemente sencillo pero soportado en la superposición de capas narrativas\, el público se convierte en testigo de historias no ubicadas geográficamente a propósito\, historias posibles (las del Norte global) e imposibles (las del Sur global). Con furia o con poesía\, o con ambas\, todas las historias conmueven pero no se diluyen en sentimentalismo forzado. Eso reduciría el poder de este encuentro\, porque ese es -volviendo a lo que decíamos al principio- el verdadero objetivo\, el encuentro que transforma. “Si quieres hacer una obra sobre un bosque -explica Rodrigues-\, tienes que contar la historia de un árbol: el público volverá al bosque por sí mismo”. Si vistéis otras obras del portugués como By heart\, Bovary\, Antonio y Cleopatra o Sopro\, corred de nuevo hacia el bosque. Si es vuestro primer árbol\, disfrutad esa irrepetible primera vez”. \n(Texto de director del Festival de Otoño)
URL:https://volodia.es/calendario-de-estrenos/estrenos-dans-mesure-impossible-tiago-rodrigues-festival-otono-teatros-canal-2022
LOCATION:Teatros del Canal (Sala Roja)\, C/ Cea Bermúdez\, 1\, Madrid\, 28003\, España
CATEGORIES:Teatro
ATTACH;FMTTYPE=image/jpeg:https://volodia.es/wp-content/uploads/2022/09/Dans-la-mesure-du-possible_Tiago-Rodrigues_Festival-Otono-2022-scaled.jpg
END:VEVENT
BEGIN:VEVENT
DTSTART;VALUE=DATE:20221126
DTEND;VALUE=DATE:20221127
DTSTAMP:20260420T122447
CREATED:20221121T082809Z
LAST-MODIFIED:20221121T092829Z
UID:15535-1669420800-1669507199@volodia.es
SUMMARY:Vuestra\, Jo Van Gogh
DESCRIPTION:¿Quién hoy\, en el mundo actual\, no conoce a Vincent VAN GOGH? \n¿Qué sentiría si le dijera que podemos disfrutar de su obra porque una mujer\, nacida a mediados del siglo 19\, Jo Van Gogh\, la viuda de Teo Van Gogh\, se empeñó́ y dedicó su vida entera a conseguir que las obras de su cuñado\, Vincent\, no se perdieran o fueran destruidas? Sin ella\, es muy posible que Van Gogh no existiera en la historia de la pintura. \n¿Ud. sabe quién fue Jo? \n-Encuentra toda la belleza que puedas-\, me dijo y así empezó todo. \nDesde hace tiempo Jo prefiere estar con “los ausentes” más que con “los presentes\, pero ¿quién nos puede asegurar que\, a menudo\, “los ausentes”\, no son nuestros verdaderos compañeros de vida? \nHoy\, Jo\, tiene algo muy importante que contarle a su marido\, muerto 35 años antes\, unos meses después que Vincent. \n(Texto de Teatro Soho Club) \n \nAutora: Laura Cepeda.\n \nDirección: Guillermo Heras. \nIntérpretes: Laura Cepeda y Aure Sánchez. \nFechas: del 26 de noviembre al 6 de diciembre de 2022. \n 
URL:https://volodia.es/calendario-de-estrenos/estrenos-vuestra-jo-van-gogh-laura-cepeda-guillermo-heras-teatro-soho-club-2022
LOCATION:Teatro Soho Club\, Plaza de España\, 6\, Madrid\, Madrid\, 28008\, España
CATEGORIES:Teatro
ATTACH;FMTTYPE=image/png:https://volodia.es/wp-content/uploads/2022/11/Vuestra-Jo-Van-Gogh.png
END:VEVENT
END:VCALENDAR